BEGIN:VCALENDAR
VERSION:2.0
PRODID:-//N Ô M A D A - ECPv6.0.4//NONSGML v1.0//EN
CALSCALE:GREGORIAN
METHOD:PUBLISH
X-WR-CALNAME:N Ô M A D A
X-ORIGINAL-URL:http://playanomada.es
X-WR-CALDESC:Events for N Ô M A D A
REFRESH-INTERVAL;VALUE=DURATION:PT1H
X-Robots-Tag:noindex
X-PUBLISHED-TTL:PT1H
BEGIN:VTIMEZONE
TZID:UTC
BEGIN:STANDARD
TZOFFSETFROM:+0000
TZOFFSETTO:+0000
TZNAME:UTC
DTSTART:20220101T000000
END:STANDARD
END:VTIMEZONE
BEGIN:VEVENT
DTSTART;TZID=UTC:20220703T180000
DTEND;TZID=UTC:20220704T023000
DTSTAMP:20260422T003807
CREATED:20220629T180049Z
LAST-MODIFIED:20220701T095135Z
UID:3829-1656871200-1656901800@playanomada.es
SUMMARY:FIESTA DEL ORGULLO
DESCRIPTION:Una noche de fiesta y bailes por la Libertad e Igualdad \n¡No faltes! ¡Te esperamos!
URL:http://playanomada.es/agenda/fiesta-del-orgullo/
LOCATION:Playa Nômada\, Playa De La Bota Ctra. A-5052 Km. 9\, Punta Umbría\, Huelva\, 21100\, España
CATEGORIES:Agenda
ATTACH;FMTTYPE=image/jpeg:http://playanomada.es/wp-content/uploads/2022/06/evento-playa-nomada.jpg
END:VEVENT
BEGIN:VEVENT
DTSTART;VALUE=DATE:20220628
DTEND;VALUE=DATE:20220629
DTSTAMP:20260422T003807
CREATED:20220617T143945Z
LAST-MODIFIED:20220617T144225Z
UID:3823-1656374400-1656460799@playanomada.es
SUMMARY:SONÔMADA: MARTES ELECTRÓNICOS
DESCRIPTION:¡Vuelven los martes locos\, los martes electrónicos! \nPara este evento contaremos con dos grandes Djs del panorama andaluz y con grandes años de experiencia en el mundo de la electrónica: Avant Y (Sevilla) y WaveTRip (Huelva). \n¡Preparado para darle caña la esqueleto! ¡Te esperamos!
URL:http://playanomada.es/agenda/sonomada-martes-electronicos/
LOCATION:Playa Nômada\, Playa De La Bota Ctra. A-5052 Km. 9\, Punta Umbría\, Huelva\, 21100\, España
CATEGORIES:Agenda
ATTACH;FMTTYPE=image/jpeg:http://playanomada.es/wp-content/uploads/2022/06/evento-playa-nomada.jpg
END:VEVENT
BEGIN:VEVENT
DTSTART;VALUE=DATE:20220623
DTEND;VALUE=DATE:20220625
DTSTAMP:20260422T003807
CREATED:20220617T143445Z
LAST-MODIFIED:20220617T144243Z
UID:3818-1655942400-1656115199@playanomada.es
SUMMARY:NOCHE DE SAN JUAN
DESCRIPTION:Ven a disfrutar en Playa Nômada la noche de San Juan \nPara este evento contaremos con el concierto de «DEL CAOS» & la música de Radio. \n¡No faltes! ¡Te esperamos!
URL:http://playanomada.es/agenda/noche-de-san-juan/
LOCATION:Playa Nômada\, Playa De La Bota Ctra. A-5052 Km. 9\, Punta Umbría\, Huelva\, 21100\, España
CATEGORIES:Agenda
ATTACH;FMTTYPE=image/jpeg:http://playanomada.es/wp-content/uploads/2022/06/evento-playa-nomada.jpg
END:VEVENT
BEGIN:VEVENT
DTSTART;VALUE=DATE:20220618
DTEND;VALUE=DATE:20220620
DTSTAMP:20260422T003807
CREATED:20220614T162023Z
LAST-MODIFIED:20220617T143405Z
UID:3646-1655510400-1655683199@playanomada.es
SUMMARY:INAUGURACIÓN TEMPORADA 2022 PLAYA NÔMADA
DESCRIPTION:Gran fiesta de inauguración de la primera temporada de NômadaPara este evento contaremos con dos conciertos de dos grandes artistas de la farándula Onubense\, Waltrapa y Candalia. \nDespués continuaremos la fiesta con los ritmos bailongos de nuestros djs invitados\, Myriam Hernández\, Dj Cuscús y Chaac\, hasta altas horas de la madrugada. \n¡No faltes! ¡Te esperamos!
URL:http://playanomada.es/agenda/inauguracion-temporada-2022/
LOCATION:Playa Nômada\, Playa De La Bota Ctra. A-5052 Km. 9\, Punta Umbría\, Huelva\, 21100\, España
CATEGORIES:Agenda
ATTACH;FMTTYPE=image/jpeg:http://playanomada.es/wp-content/uploads/2017/11/WhatsApp-Image-2022-06-17-at-12.36.24-PM.jpeg
END:VEVENT
END:VCALENDAR